BEGIN:VCALENDAR
VERSION:2.0
PRODID:icalendar-ruby
CALSCALE:GREGORIAN
METHOD:PUBLISH
BEGIN:VTIMEZONE
TZID:Europe/Lisbon
BEGIN:DAYLIGHT
DTSTART:20260329T020000
TZOFFSETFROM:+0000
TZOFFSETTO:+0100
RRULE:FREQ=YEARLY;BYDAY=-1SU;BYMONTH=3
TZNAME:WEST
END:DAYLIGHT
BEGIN:STANDARD
DTSTART:20251026T010000
TZOFFSETFROM:+0100
TZOFFSETTO:+0000
RRULE:FREQ=YEARLY;BYDAY=-1SU;BYMONTH=10
TZNAME:WET
END:STANDARD
END:VTIMEZONE
BEGIN:VEVENT
DTSTAMP:20260423T194429Z
UID:68ea7a11-7fea-5537-a402-5587412881fb
DTSTART;TZID=Europe/Lisbon:20251120T173000
DTEND;TZID=Europe/Lisbon:20251120T181500
DESCRIPTION:Germany has decommissioned ~4\,500 onshore wind turbines to dat
 e and is expected to account for the largest share of future decommissioni
 ng in Europe. A significant proportion of these decommissioned wind turbin
 es were exported to predominantly European countries for a second lifecycl
 e. Accordingly\, this postpones waste handling and shifts its destination.
  Join this session to learn more about the multi-stakeholder decision-maki
 ng related to decommissioning\, second lifecycle and end-of-life pathways\
 , and how this is linked to the establishment of circular supply chains.\n
 \nSee the latest information and speakers details for this session here:\n
 https://windeurope.org/eolis2025/programme/sessions/decision-making-in-dec
 ommissioning-reuse-recycling-supply-chains-the-german-case/
LOCATION:Auditorium 7
ORGANIZER;CN=WindEurope Conference:mailto:conference@windeurope.org
SUMMARY:WindEurope End-of-Life Issues & Strategies Seminar 2025 - Decommiss
 ioning\, reuse & recycling in Germany
BEGIN:VALARM
ACTION:DISPLAY
TRIGGER:-PT30M
DESCRIPTION:Decommissioning\, reuse & recycling in Germany session starts i
 n 30 minutes
END:VALARM
END:VEVENT
END:VCALENDAR
