BEGIN:VCALENDAR
VERSION:2.0
PRODID:icalendar-ruby
CALSCALE:GREGORIAN
METHOD:PUBLISH
BEGIN:VTIMEZONE
TZID:Europe/Lisbon
BEGIN:DAYLIGHT
DTSTART:20260329T020000
TZOFFSETFROM:+0000
TZOFFSETTO:+0100
RRULE:FREQ=YEARLY;BYDAY=-1SU;BYMONTH=3
TZNAME:WEST
END:DAYLIGHT
BEGIN:STANDARD
DTSTART:20251026T010000
TZOFFSETFROM:+0100
TZOFFSETTO:+0000
RRULE:FREQ=YEARLY;BYDAY=-1SU;BYMONTH=10
TZNAME:WET
END:STANDARD
END:VTIMEZONE
BEGIN:VEVENT
DTSTAMP:20260423T194429Z
UID:9caab0f6-23e8-52be-b56e-0dcc2187184f
DTSTART;TZID=Europe/Lisbon:20251120T161500
DTEND;TZID=Europe/Lisbon:20251120T170000
DESCRIPTION:Wind turbine waste is rising as decommissioning accelerates\, a
 nd this issue has become the focus of several studies and reports. In this
  session\, weâll hear from the IEA Wind Task 45 and the Joint Research C
 entre form the European Commission. IEA WT45 promotes circular design and 
 policy alignment for end-of-life turbines. The JRC projects EU waste strea
 ms to 2050\, highlighting composite blade challenges and rare earth recove
 ry gaps. Join this session to learn how coordinated strategies are vital t
 o mitigate environmental impact and secure material independence.\n\nSee t
 he latest information and speakers details for this session here:\nhttps:/
 /windeurope.org/eolis2025/programme/sessions/what-happens-to-turbine-waste
 /
LOCATION:Auditorium 6
ORGANIZER;CN=WindEurope Conference:mailto:conference@windeurope.org
SUMMARY:WindEurope End-of-Life Issues & Strategies Seminar 2025 - What happ
 ens to turbine waste? 
BEGIN:VALARM
ACTION:DISPLAY
TRIGGER:-PT30M
DESCRIPTION:What happens to turbine waste?  session starts in 30 minutes
END:VALARM
END:VEVENT
END:VCALENDAR
