BEGIN:VCALENDAR
VERSION:2.0
PRODID:icalendar-ruby
CALSCALE:GREGORIAN
METHOD:PUBLISH
BEGIN:VTIMEZONE
TZID:Europe/Lisbon
BEGIN:DAYLIGHT
DTSTART:20260329T020000
TZOFFSETFROM:+0000
TZOFFSETTO:+0100
RRULE:FREQ=YEARLY;BYDAY=-1SU;BYMONTH=3
TZNAME:WEST
END:DAYLIGHT
BEGIN:STANDARD
DTSTART:20251026T010000
TZOFFSETFROM:+0100
TZOFFSETTO:+0000
RRULE:FREQ=YEARLY;BYDAY=-1SU;BYMONTH=10
TZNAME:WET
END:STANDARD
END:VTIMEZONE
BEGIN:VEVENT
DTSTAMP:20260423T194429Z
UID:a22d39d4-f7ca-5226-869f-0f5b4f7f222b
DTSTART;TZID=Europe/Lisbon:20251121T114500
DTEND;TZID=Europe/Lisbon:20251121T123000
DESCRIPTION:As wind farms approach the end of their design life\, operators
  face a critical decision: repower\, decommission\, or extend. This sessio
 n focuses on lifetime extension strategies\, showcasing engineering assess
 ments\, structural retrofits\, and performance monitoring techniques. Expe
 rts will share case studies\, regulatory considerations\, and cost-benefit
  analyses that support safe\, efficient asset life extension.\n\nSee the l
 atest information and speakers details for this session here:\nhttps://win
 deurope.org/eolis2025/programme/sessions/lifetime-extension-in-practice/
LOCATION:Auditorium 7
ORGANIZER;CN=WindEurope Conference:mailto:conference@windeurope.org
SUMMARY:WindEurope End-of-Life Issues & Strategies Seminar 2025 - Lifetime 
 extension in practice
BEGIN:VALARM
ACTION:DISPLAY
TRIGGER:-PT30M
DESCRIPTION:Lifetime extension in practice session starts in 30 minutes
END:VALARM
END:VEVENT
END:VCALENDAR
