BEGIN:VCALENDAR
VERSION:2.0
PRODID:icalendar-ruby
CALSCALE:GREGORIAN
METHOD:PUBLISH
BEGIN:VTIMEZONE
TZID:Europe/Lisbon
BEGIN:DAYLIGHT
DTSTART:20260329T020000
TZOFFSETFROM:+0000
TZOFFSETTO:+0100
RRULE:FREQ=YEARLY;BYDAY=-1SU;BYMONTH=3
TZNAME:WEST
END:DAYLIGHT
BEGIN:STANDARD
DTSTART:20251026T010000
TZOFFSETFROM:+0100
TZOFFSETTO:+0000
RRULE:FREQ=YEARLY;BYDAY=-1SU;BYMONTH=10
TZNAME:WET
END:STANDARD
END:VTIMEZONE
BEGIN:VEVENT
DTSTAMP:20260423T194429Z
UID:05e2e412-1cec-5848-8e9e-c5a5d11a7284
DTSTART;TZID=Europe/Lisbon:20251120T150000
DTEND;TZID=Europe/Lisbon:20251120T154500
DESCRIPTION:Clear waste classification is a cornerstone of effective circul
 ar economy policiesâespecially for complex materials such as composite w
 aste from wind turbine blades or end-of-life products containing permanent
  magnets. Ambiguity around waste codes for these materials hinders recycli
 ng\, traceability\, and regulatory alignment\, slowing the development of 
 circular markets and sustainable material flows. This session will explore
  how dedicated and clarified waste codes for composites and permanent magn
 ets can unlock smarter recycling pathways\, support regulatory compliance\
 , and enhance material traceability. By establishing clear classification 
 standards\, we empower regulators\, recyclers\, and industry stakeholders 
 to collaborate more effectively\, enabling sustainable circularity across 
 sectors and improving Europeâs access to critical secondary materials.\n
 \nSee the latest information and speakers details for this session here:\n
 https://windeurope.org/eolis2025/programme/sessions/waste-codes-demystifie
 d/
LOCATION:Auditorium 6
ORGANIZER;CN=WindEurope Conference:mailto:conference@windeurope.org
SUMMARY:WindEurope End-of-Life Issues & Strategies Seminar 2025 - Demystify
 ing the rules of handling waste
BEGIN:VALARM
ACTION:DISPLAY
TRIGGER:-PT30M
DESCRIPTION:Demystifying the rules of handling waste session starts in 30 m
 inutes
END:VALARM
END:VEVENT
END:VCALENDAR
