BEGIN:VCALENDAR
VERSION:2.0
PRODID:icalendar-ruby
CALSCALE:GREGORIAN
METHOD:PUBLISH
BEGIN:VTIMEZONE
TZID:Europe/Lisbon
BEGIN:DAYLIGHT
DTSTART:20260329T020000
TZOFFSETFROM:+0000
TZOFFSETTO:+0100
RRULE:FREQ=YEARLY;BYDAY=-1SU;BYMONTH=3
TZNAME:WEST
END:DAYLIGHT
BEGIN:STANDARD
DTSTART:20251026T010000
TZOFFSETFROM:+0100
TZOFFSETTO:+0000
RRULE:FREQ=YEARLY;BYDAY=-1SU;BYMONTH=10
TZNAME:WET
END:STANDARD
END:VTIMEZONE
BEGIN:VEVENT
DTSTAMP:20260423T194429Z
UID:5fe3f247-70bd-5c98-a77a-7dd03ae5a274
DTSTART;TZID=Europe/Lisbon:20251120T140000
DTEND;TZID=Europe/Lisbon:20251120T144500
DESCRIPTION:How can end of life blades become a viable business? This sessi
 on highlights innovative repurposing projects where retired wind turbine b
 lades are transformed into hybrid infrastructure\, architecture\, and furn
 iture. Beyond design\, weâll explore the emerging business modelsâcove
 ring value creation\, partnerships\, and market demandâasking whether ci
 rcular creativity can translate into viable commercial opportunities.\n\nS
 ee the latest information and speakers details for this session here:\nhtt
 ps://windeurope.org/eolis2025/programme/sessions/blades-reimagined/
LOCATION:Auditorium 6
ORGANIZER;CN=WindEurope Conference:mailto:conference@windeurope.org
SUMMARY:WindEurope End-of-Life Issues & Strategies Seminar 2025 - Creative 
 re-use of old blades
BEGIN:VALARM
ACTION:DISPLAY
TRIGGER:-PT30M
DESCRIPTION:Creative re-use of old blades session starts in 30 minutes
END:VALARM
END:VEVENT
END:VCALENDAR
