BEGIN:VCALENDAR
VERSION:2.0
PRODID:icalendar-ruby
CALSCALE:GREGORIAN
METHOD:PUBLISH
BEGIN:VTIMEZONE
TZID:Europe/Lisbon
BEGIN:DAYLIGHT
DTSTART:20260329T020000
TZOFFSETFROM:+0000
TZOFFSETTO:+0100
RRULE:FREQ=YEARLY;BYDAY=-1SU;BYMONTH=3
TZNAME:WEST
END:DAYLIGHT
BEGIN:STANDARD
DTSTART:20251026T010000
TZOFFSETFROM:+0100
TZOFFSETTO:+0000
RRULE:FREQ=YEARLY;BYDAY=-1SU;BYMONTH=10
TZNAME:WET
END:STANDARD
END:VTIMEZONE
BEGIN:VEVENT
DTSTAMP:20260423T194428Z
UID:0b1f0717-2277-5867-9983-70b0d891c692
DTSTART;TZID=Europe/Lisbon:20251120T133000
DTEND;TZID=Europe/Lisbon:20251120T140000
DESCRIPTION:A compact Learn@Lunch session showcasing Belgiumâs approach t
 o offshore wind decommissioning. Discover the strategic roadmap\, a robust
  calculation model\, and the DecomExplorer visualisation tool â all desi
 gned to support smarter\, more sustainable end-of-life decisions.\n\nSee t
 he latest information and speakers details for this session here:\nhttps:/
 /windeurope.org/eolis2025/programme/sessions/belgium-s-offshore-wind-decom
 -tools-trends-tactics/
LOCATION:Room 0.8
ORGANIZER;CN=WindEurope Conference:mailto:conference@windeurope.org
SUMMARY:WindEurope End-of-Life Issues & Strategies Seminar 2025 - Learn@lun
 ch: Belgiumâs thinking on offshore decommissioning
BEGIN:VALARM
ACTION:DISPLAY
TRIGGER:-PT30M
DESCRIPTION:Learn@lunch: Belgiumâs thinking on offshore decommissioning s
 ession starts in 30 minutes
END:VALARM
END:VEVENT
END:VCALENDAR
