BEGIN:VCALENDAR
VERSION:2.0
PRODID:icalendar-ruby
CALSCALE:GREGORIAN
METHOD:PUBLISH
BEGIN:VTIMEZONE
TZID:Europe/Lisbon
BEGIN:DAYLIGHT
DTSTART:20260329T020000
TZOFFSETFROM:+0000
TZOFFSETTO:+0100
RRULE:FREQ=YEARLY;BYDAY=-1SU;BYMONTH=3
TZNAME:WEST
END:DAYLIGHT
BEGIN:STANDARD
DTSTART:20251026T010000
TZOFFSETFROM:+0100
TZOFFSETTO:+0000
RRULE:FREQ=YEARLY;BYDAY=-1SU;BYMONTH=10
TZNAME:WET
END:STANDARD
END:VTIMEZONE
BEGIN:VEVENT
DTSTAMP:20260423T194428Z
UID:720d1709-2a76-5f4f-9d5c-e51f97711695
DTSTART;TZID=Europe/Lisbon:20251120T173000
DTEND;TZID=Europe/Lisbon:20251120T183000
DESCRIPTION:As wind turbines reach the end of their operational life\, the 
 challenge of recycling complex components has become a focal point for inn
 ovation. This session highlights some of the latest projects that are tran
 sforming how we recycle and repurpose wind turbine components. Designed as
  a dynamic mix of short project pitches and interactive poster discussions
 \, this session invites delegates to engage directly with researchers\, st
 artups\, and industry leaders shaping the future of wind turbine recycling
 .\n\nSee the latest information and speakers details for this session here
 :\nhttps://windeurope.org/eolis2025/programme/sessions/pioneering-innovati
 ve-recycling-solutions-in-wind/
LOCATION:Auditorium 6
ORGANIZER;CN=WindEurope Conference:mailto:conference@windeurope.org
SUMMARY:WindEurope End-of-Life Issues & Strategies Seminar 2025 - Innovativ
 e recycling solutions
BEGIN:VALARM
ACTION:DISPLAY
TRIGGER:-PT30M
DESCRIPTION:Innovative recycling solutions session starts in 30 minutes
END:VALARM
END:VEVENT
END:VCALENDAR
