BEGIN:VCALENDAR
VERSION:2.0
PRODID:icalendar-ruby
CALSCALE:GREGORIAN
METHOD:PUBLISH
BEGIN:VTIMEZONE
TZID:Europe/Lisbon
BEGIN:DAYLIGHT
DTSTART:20260329T020000
TZOFFSETFROM:+0000
TZOFFSETTO:+0100
RRULE:FREQ=YEARLY;BYDAY=-1SU;BYMONTH=3
TZNAME:WEST
END:DAYLIGHT
BEGIN:STANDARD
DTSTART:20251026T010000
TZOFFSETFROM:+0100
TZOFFSETTO:+0000
RRULE:FREQ=YEARLY;BYDAY=-1SU;BYMONTH=10
TZNAME:WET
END:STANDARD
END:VTIMEZONE
BEGIN:VEVENT
DTSTAMP:20260423T194356Z
UID:84f42f87-1a76-5643-b168-bb440d0dbe26
DTSTART;TZID=Europe/Lisbon:20251120T140000
DTEND;TZID=Europe/Lisbon:20251120T144500
DESCRIPTION:This session presents a data-driven analysis of wind farm repow
 ering across Europe and beyond. Weâll examine installed capacity trends\
 , turbine replacement ratios\, grid integration impacts\, and lifetime ext
 ension metrics. Experts will interpret national targets\, permitting bottl
 enecks\, and investment signalsâoffering insights to guide strategic dec
 isions in repowering planning and policy alignment.\n\nSee the latest info
 rmation and speakers details for this session here:\nhttps://windeurope.or
 g/eolis2025/programme/sessions/repowering-trends-and-takeaways-in-europe/
LOCATION:Auditorium 7
ORGANIZER;CN=WindEurope Conference:mailto:conference@windeurope.org
SUMMARY:WindEurope End-of-Life Issues & Strategies Seminar 2025 - Repowerin
 g trends in Europe and beyond
BEGIN:VALARM
ACTION:DISPLAY
TRIGGER:-PT30M
DESCRIPTION:Repowering trends in Europe and beyond session starts in 30 min
 utes
END:VALARM
END:VEVENT
END:VCALENDAR
