BEGIN:VCALENDAR
VERSION:2.0
PRODID:icalendar-ruby
CALSCALE:GREGORIAN
METHOD:PUBLISH
BEGIN:VTIMEZONE
TZID:Europe/Lisbon
BEGIN:DAYLIGHT
DTSTART:20260329T020000
TZOFFSETFROM:+0000
TZOFFSETTO:+0100
RRULE:FREQ=YEARLY;BYDAY=-1SU;BYMONTH=3
TZNAME:WEST
END:DAYLIGHT
BEGIN:STANDARD
DTSTART:20251026T010000
TZOFFSETFROM:+0100
TZOFFSETTO:+0000
RRULE:FREQ=YEARLY;BYDAY=-1SU;BYMONTH=10
TZNAME:WET
END:STANDARD
END:VTIMEZONE
BEGIN:VEVENT
DTSTAMP:20260423T194408Z
UID:6ffb4e51-c4a9-582c-ba98-6d2302ccec59
DTSTART;TZID=Europe/Lisbon:20251120T103000
DTEND;TZID=Europe/Lisbon:20251120T110000
DESCRIPTION:\n\nSee the latest information and speakers details for this se
 ssion here:\nhttps://windeurope.org/eolis2025/programme/sessions/setting-t
 he-stage/
LOCATION:Auditorium 7
ORGANIZER;CN=WindEurope Conference:mailto:conference@windeurope.org
SUMMARY:WindEurope End-of-Life Issues & Strategies Seminar 2025 - Setting t
 he stage
BEGIN:VALARM
ACTION:DISPLAY
TRIGGER:-PT30M
DESCRIPTION:Setting the stage session starts in 30 minutes
END:VALARM
END:VEVENT
END:VCALENDAR
