BEGIN:VCALENDAR
VERSION:2.0
PRODID:icalendar-ruby
CALSCALE:GREGORIAN
METHOD:PUBLISH
BEGIN:VTIMEZONE
TZID:Europe/Lisbon
BEGIN:DAYLIGHT
DTSTART:20260329T020000
TZOFFSETFROM:+0000
TZOFFSETTO:+0100
RRULE:FREQ=YEARLY;BYDAY=-1SU;BYMONTH=3
TZNAME:WEST
END:DAYLIGHT
BEGIN:STANDARD
DTSTART:20251026T010000
TZOFFSETFROM:+0100
TZOFFSETTO:+0000
RRULE:FREQ=YEARLY;BYDAY=-1SU;BYMONTH=10
TZNAME:WET
END:STANDARD
END:VTIMEZONE
BEGIN:VEVENT
DTSTAMP:20260423T194408Z
UID:b715c256-8a77-5892-b526-04aba61661c0
DTSTART;TZID=Europe/Lisbon:20251121T150000
DTEND;TZID=Europe/Lisbon:20251121T154500
DESCRIPTION:The closing session is a follow up to last yearâs âEOL Stak
 eholder engagementâ workshop and explores how to meaningfully involve lo
 cal communities in wind farm end-of-life âan area with limited precedent
 . While community engagement is well-established\, end-of-life practices r
 equire new approaches focused on transparency\, site restoration\, and fut
 ure land use. Join us to shape inclusive\, community-driven practices for 
 the final phase of wind energy.\n\nSee the latest information and speakers
  details for this session here:\nhttps://windeurope.org/eolis2025/programm
 e/sessions/engaging-communities-in-windfarm-end-of-life-decisions/
LOCATION:Auditorium 7
ORGANIZER;CN=WindEurope Conference:mailto:conference@windeurope.org
SUMMARY:WindEurope End-of-Life Issues & Strategies Seminar 2025 - Engaging 
 communities in windfarm end of life decisions
BEGIN:VALARM
ACTION:DISPLAY
TRIGGER:-PT30M
DESCRIPTION:Engaging communities in windfarm end of life decisions session 
 starts in 30 minutes
END:VALARM
END:VEVENT
END:VCALENDAR
