BEGIN:VCALENDAR
VERSION:2.0
PRODID:icalendar-ruby
CALSCALE:GREGORIAN
METHOD:PUBLISH
BEGIN:VTIMEZONE
TZID:Europe/Lisbon
BEGIN:DAYLIGHT
DTSTART:20260329T020000
TZOFFSETFROM:+0000
TZOFFSETTO:+0100
RRULE:FREQ=YEARLY;BYDAY=-1SU;BYMONTH=3
TZNAME:WEST
END:DAYLIGHT
BEGIN:STANDARD
DTSTART:20251026T010000
TZOFFSETFROM:+0100
TZOFFSETTO:+0000
RRULE:FREQ=YEARLY;BYDAY=-1SU;BYMONTH=10
TZNAME:WET
END:STANDARD
END:VTIMEZONE
BEGIN:VEVENT
DTSTAMP:20260423T194428Z
UID:78cee020-53d9-552e-a9d5-521ef1cefd23
DTSTART;TZID=Europe/Lisbon:20251121T140000
DTEND;TZID=Europe/Lisbon:20251121T144500
DESCRIPTION:This session explores case studies that reveal the practical re
 alities of offshore decommissioning\, the doâs and donâts\,âfrom tim
 e\, cost\, and spatial needs to organizational and cultural shifts. Learn 
 how diverse practices shape outcomes and what it takes to plan\, manage\, 
 and adapt decommissioning processes in real-world settings.\n\nSee the lat
 est information and speakers details for this session here:\nhttps://winde
 urope.org/eolis2025/programme/sessions/decommissioning-from-planning-to-pr
 actice/
LOCATION:Auditorium 6
ORGANIZER;CN=WindEurope Conference:mailto:conference@windeurope.org
SUMMARY:WindEurope End-of-Life Issues & Strategies Seminar 2025 - Decommiss
 ioning: from planning to practice
BEGIN:VALARM
ACTION:DISPLAY
TRIGGER:-PT30M
DESCRIPTION:Decommissioning: from planning to practice session starts in 30
  minutes
END:VALARM
END:VEVENT
END:VCALENDAR
