BEGIN:VCALENDAR
VERSION:2.0
PRODID:icalendar-ruby
CALSCALE:GREGORIAN
METHOD:PUBLISH
BEGIN:VTIMEZONE
TZID:Europe/Lisbon
BEGIN:DAYLIGHT
DTSTART:20260329T020000
TZOFFSETFROM:+0000
TZOFFSETTO:+0100
RRULE:FREQ=YEARLY;BYDAY=-1SU;BYMONTH=3
TZNAME:WEST
END:DAYLIGHT
BEGIN:STANDARD
DTSTART:20251026T010000
TZOFFSETFROM:+0100
TZOFFSETTO:+0000
RRULE:FREQ=YEARLY;BYDAY=-1SU;BYMONTH=10
TZNAME:WET
END:STANDARD
END:VTIMEZONE
BEGIN:VEVENT
DTSTAMP:20260423T194407Z
UID:bb1d405a-69b1-5a19-8c6d-004917ad76e7
DTSTART;TZID=Europe/Lisbon:20251121T140000
DTEND;TZID=Europe/Lisbon:20251121T144500
DESCRIPTION:In this pitch-style session\, entrepreneurs make the business c
 ase for rare earth and permanent magnets recycling. From supply chain resi
 lience to green tech demand\, discover why circular models for permanent m
 agnets and rare earth are not just sustainableâbut also make business se
 nse. Expect bold ideas\, sharp questions\, and a spotlight on scalable\, i
 nvestable innovation.\n\nSee the latest information and speakers details f
 or this session here:\nhttps://windeurope.org/eolis2025/programme/sessions
 /what-is-the-business-case-for-recycling-rare-earth-and-permanent-magnets/
LOCATION:Auditorium 7
ORGANIZER;CN=WindEurope Conference:mailto:conference@windeurope.org
SUMMARY:WindEurope End-of-Life Issues & Strategies Seminar 2025 - Is there 
 a business case for recycling rare earth and permanent magnets?
BEGIN:VALARM
ACTION:DISPLAY
TRIGGER:-PT30M
DESCRIPTION:Is there a business case for recycling rare earth and permanent
  magnets? session starts in 30 minutes
END:VALARM
END:VEVENT
END:VCALENDAR
