BEGIN:VCALENDAR
VERSION:2.0
PRODID:icalendar-ruby
CALSCALE:GREGORIAN
METHOD:PUBLISH
BEGIN:VTIMEZONE
TZID:Europe/Lisbon
BEGIN:DAYLIGHT
DTSTART:20260329T020000
TZOFFSETFROM:+0000
TZOFFSETTO:+0100
RRULE:FREQ=YEARLY;BYDAY=-1SU;BYMONTH=3
TZNAME:WEST
END:DAYLIGHT
BEGIN:STANDARD
DTSTART:20251026T010000
TZOFFSETFROM:+0100
TZOFFSETTO:+0000
RRULE:FREQ=YEARLY;BYDAY=-1SU;BYMONTH=10
TZNAME:WET
END:STANDARD
END:VTIMEZONE
BEGIN:VEVENT
DTSTAMP:20260423T194407Z
UID:2d7c4d68-222d-504f-a5eb-6b010c644cbd
DTSTART;TZID=Europe/Lisbon:20251121T103000
DTEND;TZID=Europe/Lisbon:20251121T111500
DESCRIPTION:This session brings the waste handlersâ perspectives to the f
 orefrontâhighlighting operational challenges\, regulatory gaps\, and the
  realities of processing turbine waste. It also explores emerging markets 
 for recyclates\, shedding light on where recovered materials go and what
 âs needed to scale circular solutions across the value chain.\n\nSee the
  latest information and speakers details for this session here:\nhttps://w
 indeurope.org/eolis2025/programme/sessions/recyclates-and-market-demand-fr
 om-a-waste-handler-s-viewpoint/
LOCATION:Auditorium 6
ORGANIZER;CN=WindEurope Conference:mailto:conference@windeurope.org
SUMMARY:WindEurope End-of-Life Issues & Strategies Seminar 2025 - The deman
 d side and waste handlers' perspective
BEGIN:VALARM
ACTION:DISPLAY
TRIGGER:-PT30M
DESCRIPTION:The demand side and waste handlers' perspective session starts 
 in 30 minutes
END:VALARM
END:VEVENT
END:VCALENDAR
