BEGIN:VCALENDAR
VERSION:2.0
PRODID:icalendar-ruby
CALSCALE:GREGORIAN
METHOD:PUBLISH
BEGIN:VTIMEZONE
TZID:Europe/Lisbon
BEGIN:DAYLIGHT
DTSTART:20260329T020000
TZOFFSETFROM:+0000
TZOFFSETTO:+0100
RRULE:FREQ=YEARLY;BYDAY=-1SU;BYMONTH=3
TZNAME:WEST
END:DAYLIGHT
BEGIN:STANDARD
DTSTART:20251026T010000
TZOFFSETFROM:+0100
TZOFFSETTO:+0000
RRULE:FREQ=YEARLY;BYDAY=-1SU;BYMONTH=10
TZNAME:WET
END:STANDARD
END:VTIMEZONE
BEGIN:VEVENT
DTSTAMP:20260423T194407Z
UID:f27372e2-705b-5e12-a696-9be1b03004f5
DTSTART;TZID=Europe/Lisbon:20251121T114500
DTEND;TZID=Europe/Lisbon:20251121T123000
DESCRIPTION:Offshore decommissioning is fast moving from theory to reality.
  Sophisticated data-driven strategies are emerging that are designed to ba
 lance environmental responsibility with economic viability.\nWe will explo
 re three examples of these novel methodologies. A new risk assessment mode
 l aims to improve scheduling and reduce cost for developers. Digital struc
 tural health monitoring offers a proactive way to monitor the condition of
  sub-structures\, maximise operational life\, and influence decommissionin
 g strategy. Multi-Criteria Decision Analysis is used to examine the feasib
 ility of repurposing existing subsea offshore infrastructure and the integ
 ration of hybrid renewable energy generation.\n\n\nSee the latest informat
 ion and speakers details for this session here:\nhttps://windeurope.org/eo
 lis2025/programme/sessions/offshore-decommissioning/
LOCATION:Auditorium 6
ORGANIZER;CN=WindEurope Conference:mailto:conference@windeurope.org
SUMMARY:WindEurope End-of-Life Issues & Strategies Seminar 2025 - Offshore 
 decommissioning
BEGIN:VALARM
ACTION:DISPLAY
TRIGGER:-PT30M
DESCRIPTION:Offshore decommissioning session starts in 30 minutes
END:VALARM
END:VEVENT
END:VCALENDAR
