BEGIN:VCALENDAR
VERSION:2.0
PRODID:icalendar-ruby
CALSCALE:GREGORIAN
METHOD:PUBLISH
BEGIN:VTIMEZONE
TZID:Europe/Lisbon
BEGIN:DAYLIGHT
DTSTART:20260329T020000
TZOFFSETFROM:+0000
TZOFFSETTO:+0100
RRULE:FREQ=YEARLY;BYDAY=-1SU;BYMONTH=3
TZNAME:WEST
END:DAYLIGHT
BEGIN:STANDARD
DTSTART:20251026T010000
TZOFFSETFROM:+0100
TZOFFSETTO:+0000
RRULE:FREQ=YEARLY;BYDAY=-1SU;BYMONTH=10
TZNAME:WET
END:STANDARD
END:VTIMEZONE
BEGIN:VEVENT
DTSTAMP:20260423T194408Z
UID:570c2db0-1ef0-55de-9962-8519ff5cbf31
DTSTART;TZID=Europe/Lisbon:20251120T161500
DTEND;TZID=Europe/Lisbon:20251120T170000
DESCRIPTION:\n\nSee the latest information and speakers details for this se
 ssion here:\nhttps://windeurope.org/eolis2025/programme/sessions/end-of-li
 fe-strategies/
LOCATION:Auditorium 7
ORGANIZER;CN=WindEurope Conference:mailto:conference@windeurope.org
SUMMARY:WindEurope End-of-Life Issues & Strategies Seminar 2025 - Latest th
 inking on lifetime extension
BEGIN:VALARM
ACTION:DISPLAY
TRIGGER:-PT30M
DESCRIPTION:Latest thinking on lifetime extension session starts in 30 minu
 tes
END:VALARM
END:VEVENT
END:VCALENDAR
