BEGIN:VCALENDAR
VERSION:2.0
PRODID:icalendar-ruby
CALSCALE:GREGORIAN
METHOD:PUBLISH
BEGIN:VTIMEZONE
TZID:Europe/Lisbon
BEGIN:DAYLIGHT
DTSTART:20260329T020000
TZOFFSETFROM:+0000
TZOFFSETTO:+0100
RRULE:FREQ=YEARLY;BYDAY=-1SU;BYMONTH=3
TZNAME:WEST
END:DAYLIGHT
BEGIN:STANDARD
DTSTART:20251026T010000
TZOFFSETFROM:+0100
TZOFFSETTO:+0000
RRULE:FREQ=YEARLY;BYDAY=-1SU;BYMONTH=10
TZNAME:WET
END:STANDARD
END:VTIMEZONE
BEGIN:VEVENT
DTSTAMP:20260423T194408Z
UID:6b08b682-b8ee-50d0-b363-2cf88b7b8c4c
DTSTART;TZID=Europe/Lisbon:20251121T103000
DTEND;TZID=Europe/Lisbon:20251121T111500
DESCRIPTION:This session highlights repowering projects from across Europe\
 , offering a close-up look at how operators are upgrading aging wind asset
 s for greater efficiency and output. Through real-world case studies\, we
 âll explore technical approaches\, permitting journeys\, investment mode
 ls\, and performance outcomesâproviding practical insights for scaling r
 epowering across diverse regulatory and market contexts.\n\nSee the latest
  information and speakers details for this session here:\nhttps://windeuro
 pe.org/eolis2025/programme/sessions/repowering-the-fleet-case-studies-from
 -the-field/
LOCATION:Auditorium 7
ORGANIZER;CN=WindEurope Conference:mailto:conference@windeurope.org
SUMMARY:WindEurope End-of-Life Issues & Strategies Seminar 2025 - Repowerin
 g case studies
BEGIN:VALARM
ACTION:DISPLAY
TRIGGER:-PT30M
DESCRIPTION:Repowering case studies session starts in 30 minutes
END:VALARM
END:VEVENT
END:VCALENDAR
