BEGIN:VCALENDAR
VERSION:2.0
PRODID:icalendar-ruby
CALSCALE:GREGORIAN
METHOD:PUBLISH
BEGIN:VTIMEZONE
TZID:Europe/Lisbon
BEGIN:DAYLIGHT
DTSTART:20260329T020000
TZOFFSETFROM:+0000
TZOFFSETTO:+0100
RRULE:FREQ=YEARLY;BYDAY=-1SU;BYMONTH=3
TZNAME:WEST
END:DAYLIGHT
BEGIN:STANDARD
DTSTART:20251026T010000
TZOFFSETFROM:+0100
TZOFFSETTO:+0000
RRULE:FREQ=YEARLY;BYDAY=-1SU;BYMONTH=10
TZNAME:WET
END:STANDARD
END:VTIMEZONE
BEGIN:VEVENT
DTSTAMP:20260423T194408Z
UID:a55a8420-faf6-559e-945a-443a74542b77
DTSTART;TZID=Europe/Lisbon:20251121T090000
DTEND;TZID=Europe/Lisbon:20251121T100000
DESCRIPTION:This session examines the uneven landscape of policy frameworks
  guiding wind farm repowering across Europe. By comparing national approac
 hes to permitting\, incentives\, and grid integration\, weâll identify r
 egulatory bottlenecks and best practices. Join us to understand how policy
  alignment can accelerate repowering and support Europeâs renewable ener
 gy goals.\n\nSee the latest information and speakers details for this sess
 ion here:\nhttps://windeurope.org/eolis2025/programme/sessions/frameworks-
 in-transition-repowering-policy-across-europe/
LOCATION:Auditorium 7
ORGANIZER;CN=WindEurope Conference:mailto:conference@windeurope.org
SUMMARY:WindEurope End-of-Life Issues & Strategies Seminar 2025 - What are 
 governments doing on repowering?
BEGIN:VALARM
ACTION:DISPLAY
TRIGGER:-PT30M
DESCRIPTION:What are governments doing on repowering? session starts in 30 
 minutes
END:VALARM
END:VEVENT
END:VCALENDAR
