BEGIN:VCALENDAR
VERSION:2.0
PRODID:icalendar-ruby
CALSCALE:GREGORIAN
METHOD:PUBLISH
BEGIN:VTIMEZONE
TZID:Europe/Lisbon
BEGIN:DAYLIGHT
DTSTART:20260329T020000
TZOFFSETFROM:+0000
TZOFFSETTO:+0100
RRULE:FREQ=YEARLY;BYDAY=-1SU;BYMONTH=3
TZNAME:WEST
END:DAYLIGHT
BEGIN:STANDARD
DTSTART:20251026T010000
TZOFFSETFROM:+0100
TZOFFSETTO:+0000
RRULE:FREQ=YEARLY;BYDAY=-1SU;BYMONTH=10
TZNAME:WET
END:STANDARD
END:VTIMEZONE
BEGIN:VEVENT
DTSTAMP:20260423T194429Z
UID:48ed7df6-030b-5fd5-aa79-5bce1790a5e5
DTSTART;TZID=Europe/Lisbon:20251120T113000
DTEND;TZID=Europe/Lisbon:20251120T123000
DESCRIPTION:What does circularity mean for wind energyâand how is it bein
 g applied today? This seminar unpacks core circular economy principles and
  lifecycle thinking in wind\, from design to the end of use. Through exper
 t insights and real-world examples\, weâll explore current practices\, i
 dentify gaps\, and chart a collaborative path toward a truly circular wind
  sector.\n\nIf you have specific questions for the panel\, you can send th
 em in <a href="https://forms.office.com/e/JJfSQz2AKM" target="_blank">here
 </a>.\n\n\nSee the latest information and speakers details for this sessio
 n here:\nhttps://windeurope.org/eolis2025/programme/sessions/circularity-i
 n-wind-concepts-practice-and-the-path-forward/
LOCATION:Auditorium 7
ORGANIZER;CN=WindEurope Conference:mailto:conference@windeurope.org
SUMMARY:WindEurope End-of-Life Issues & Strategies Seminar 2025 - Circulari
 ty in wind: Concepts\, practice\, and the way forward
BEGIN:VALARM
ACTION:DISPLAY
TRIGGER:-PT30M
DESCRIPTION:Circularity in wind: Concepts\, practice\, and the way forward 
 session starts in 30 minutes
END:VALARM
END:VEVENT
END:VCALENDAR
