BEGIN:VCALENDAR
VERSION:2.0
PRODID:icalendar-ruby
CALSCALE:GREGORIAN
METHOD:PUBLISH
BEGIN:VTIMEZONE
TZID:Europe/Copenhagen
BEGIN:DAYLIGHT
DTSTART:20250330T030000
TZOFFSETFROM:+0100
TZOFFSETTO:+0200
RRULE:FREQ=YEARLY;BYDAY=-1SU;BYMONTH=3
TZNAME:CEST
END:DAYLIGHT
BEGIN:STANDARD
DTSTART:20251026T020000
TZOFFSETFROM:+0200
TZOFFSETTO:+0100
RRULE:FREQ=YEARLY;BYDAY=-1SU;BYMONTH=10
TZNAME:CET
END:STANDARD
END:VTIMEZONE
BEGIN:VEVENT
DTSTAMP:20260423T175909Z
UID:4e88d30e-b788-566d-a363-7fda1c8396f0
DTSTART;TZID=Europe/Copenhagen:20250410T113000
DTEND;TZID=Europe/Copenhagen:20250410T124500
DESCRIPTION:This session will look at recent developments and innovations i
 n blade monitoring tools and techniques.\n\nSee the latest information and
  speakers details for this session here:\nhttps://windeurope.org/annual202
 5/conference/sessions/advances-in-blade-monitoring/
LOCATION:Auditorium 12
ORGANIZER;CN=WindEurope Conference:mailto:conference@windeurope.org
SUMMARY:WindEurope Annual Event 2025 - Advances in blade monitoring
BEGIN:VALARM
ACTION:DISPLAY
TRIGGER:-PT30M
DESCRIPTION:Advances in blade monitoring session starts in 30 minutes
END:VALARM
END:VEVENT
END:VCALENDAR
