BEGIN:VCALENDAR
VERSION:2.0
PRODID:icalendar-ruby
CALSCALE:GREGORIAN
METHOD:PUBLISH
BEGIN:VTIMEZONE
TZID:Europe/Copenhagen
BEGIN:DAYLIGHT
DTSTART:20250330T030000
TZOFFSETFROM:+0100
TZOFFSETTO:+0200
RRULE:FREQ=YEARLY;BYDAY=-1SU;BYMONTH=3
TZNAME:CEST
END:DAYLIGHT
BEGIN:STANDARD
DTSTART:20251026T020000
TZOFFSETFROM:+0200
TZOFFSETTO:+0100
RRULE:FREQ=YEARLY;BYDAY=-1SU;BYMONTH=10
TZNAME:CET
END:STANDARD
END:VTIMEZONE
BEGIN:VEVENT
DTSTAMP:20260423T175910Z
UID:15ccb794-21b1-5b74-9faf-98ce8f9fe748
DTSTART;TZID=Europe/Copenhagen:20250410T134500
DTEND;TZID=Europe/Copenhagen:20250410T150000
DESCRIPTION:Offshore grids and hybrid systems are crucial for the advanceme
 nt of renewable energy\, yet they encounter significant challenges. Financ
 ing offshore hybrids\, finding the right market design setup to make them 
 commercially viable while solving the technical complexities will be key t
 o harnessing offshore wind energy's full potential. Join the discussion an
 d gain insights from our panelists on how to tackle these challenges.\n\nS
 ee the latest information and speakers details for this session here:\nhtt
 ps://windeurope.org/annual2025/conference/sessions/offshore-grids-and-hybr
 ids/
LOCATION:Auditorium 11
ORGANIZER;CN=WindEurope Conference:mailto:conference@windeurope.org
SUMMARY:WindEurope Annual Event 2025 - Offshore grids and hybrids
BEGIN:VALARM
ACTION:DISPLAY
TRIGGER:-PT30M
DESCRIPTION:Offshore grids and hybrids session starts in 30 minutes
END:VALARM
END:VEVENT
END:VCALENDAR
