BEGIN:VCALENDAR
VERSION:2.0
PRODID:icalendar-ruby
CALSCALE:GREGORIAN
METHOD:PUBLISH
BEGIN:VTIMEZONE
TZID:Europe/Copenhagen
BEGIN:DAYLIGHT
DTSTART:20250330T030000
TZOFFSETFROM:+0100
TZOFFSETTO:+0200
RRULE:FREQ=YEARLY;BYDAY=-1SU;BYMONTH=3
TZNAME:CEST
END:DAYLIGHT
BEGIN:STANDARD
DTSTART:20251026T020000
TZOFFSETFROM:+0200
TZOFFSETTO:+0100
RRULE:FREQ=YEARLY;BYDAY=-1SU;BYMONTH=10
TZNAME:CET
END:STANDARD
END:VTIMEZONE
BEGIN:VEVENT
DTSTAMP:20260425T171140Z
UID:4fca2d22-c1d9-57f6-a5b4-9f46f917797b
DTSTART;TZID=Europe/Copenhagen:20250409T090000
DTEND;TZID=Europe/Copenhagen:20250409T103000
DESCRIPTION:Wind energy is set to become the leading source of electricity 
 in the EU soon after 2030. And that's good news\, because this increase wi
 ll help European industry to reach their decarbonisation objectives in a c
 ost-efficient way. But we are not there yet. New installations are slower 
 than they should - despite some recent improvements on key markets like Ge
 rmany. Grid infrastructure needs more investments. And energy consumers - 
 who are willing to changes their processes to decarbonise but face intense
  international competition - would need a stronger business case for the b
 old investments they are to take. As the international environment grows m
 ore unstable\, what are the levers that will enable us to accelerate our e
 nergy transition while strengthening Europe's competitiveness?\n\nSee the 
 latest information and speakers details for this session here:\nhttps://wi
 ndeurope.org/annual2025/conference/sessions/ministerial-session-putting-wi
 nd-at-the-heart-of-Europe-s-competitiveness/
LOCATION:Auditorium 15
ORGANIZER;CN=WindEurope Conference:mailto:conference@windeurope.org
SUMMARY:WindEurope Annual Event 2025 - Ministerial session - Putting wind a
 t the heart of Europe's competitiveness
BEGIN:VALARM
ACTION:DISPLAY
TRIGGER:-PT30M
DESCRIPTION:Ministerial session - Putting wind at the heart of Europe's com
 petitiveness session starts in 30 minutes
END:VALARM
END:VEVENT
END:VCALENDAR
