BEGIN:VCALENDAR
VERSION:2.0
PRODID:icalendar-ruby
CALSCALE:GREGORIAN
METHOD:PUBLISH
BEGIN:VTIMEZONE
TZID:Europe/Copenhagen
BEGIN:DAYLIGHT
DTSTART:20250330T030000
TZOFFSETFROM:+0100
TZOFFSETTO:+0200
RRULE:FREQ=YEARLY;BYDAY=-1SU;BYMONTH=3
TZNAME:CEST
END:DAYLIGHT
BEGIN:STANDARD
DTSTART:20251026T020000
TZOFFSETFROM:+0200
TZOFFSETTO:+0100
RRULE:FREQ=YEARLY;BYDAY=-1SU;BYMONTH=10
TZNAME:CET
END:STANDARD
END:VTIMEZONE
BEGIN:VEVENT
DTSTAMP:20260425T170130Z
UID:9f8715f1-ae9b-53e3-a7ff-12eff6b46c56
DTSTART;TZID=Europe/Copenhagen:20250410T113000
DTEND;TZID=Europe/Copenhagen:20250410T123000
DESCRIPTION:\n\nSee the latest information and speakers details for this se
 ssion here:\nhttps://windeurope.org/annual2025/conference/sessions/roundta
 ble-discussion-recycling-roadmap/
LOCATION:Meeting room 17
ORGANIZER;CN=WindEurope Conference:mailto:conference@windeurope.org
SUMMARY:WindEurope Annual Event 2025 - Roundtable: A recycling roadmap for 
 rotor blades
BEGIN:VALARM
ACTION:DISPLAY
TRIGGER:-PT30M
DESCRIPTION:Roundtable: A recycling roadmap for rotor blades session starts
  in 30 minutes
END:VALARM
END:VEVENT
END:VCALENDAR
