BEGIN:VCALENDAR
VERSION:2.0
PRODID:icalendar-ruby
CALSCALE:GREGORIAN
METHOD:PUBLISH
BEGIN:VTIMEZONE
TZID:Europe/Copenhagen
BEGIN:DAYLIGHT
DTSTART:20250330T030000
TZOFFSETFROM:+0100
TZOFFSETTO:+0200
RRULE:FREQ=YEARLY;BYDAY=-1SU;BYMONTH=3
TZNAME:CEST
END:DAYLIGHT
BEGIN:STANDARD
DTSTART:20251026T020000
TZOFFSETFROM:+0200
TZOFFSETTO:+0100
RRULE:FREQ=YEARLY;BYDAY=-1SU;BYMONTH=10
TZNAME:CET
END:STANDARD
END:VTIMEZONE
BEGIN:VEVENT
DTSTAMP:20260425T170239Z
UID:7aaf163a-eb29-53c4-8d1d-5eda573b79ce
DTSTART;TZID=Europe/Copenhagen:20250409T143000
DTEND;TZID=Europe/Copenhagen:20250409T153000
DESCRIPTION:\n\nSee the latest information and speakers details for this se
 ssion here:\nhttps://windeurope.org/annual2025/conference/sessions/roundta
 ble-discussion-eopsa/
LOCATION:Meeting room 17
ORGANIZER;CN=WindEurope Conference:mailto:conference@windeurope.org
SUMMARY:WindEurope Annual Event 2025 - Roundtable: Offshore Wind Supply Cha
 in Decarbonisation: Where Developers\, Ports\, and Shipping Operators Conv
 erge
BEGIN:VALARM
ACTION:DISPLAY
TRIGGER:-PT30M
DESCRIPTION:Roundtable: Offshore Wind Supply Chain Decarbonisation: Where D
 evelopers\, Ports\, and Shipping Operators Converge session starts in 30 m
 inutes
END:VALARM
END:VEVENT
END:VCALENDAR
